Workbook

Sheet 2026届毕业生档案邮寄名单
A1: 2026届毕业生档案邮寄名单
A2: 序号 | B2: 姓名 | C2: 学号 | D2: 性别 | E2: 出生日期 | F2: 民族 | G2: 政治面貌 | H2: 学院 | I2: 专业 | J2: 城乡规划2021级 | K2: 学制 | L2: 档案邮寄接收单位或地址 | M2: 档案接收人姓名 | N2: 档案接收人联系电话 | O2: 学生本人联系电话 | P2: 邮件单号号 | Q2: 备注
A3: 1 | B3: 刘序强 | C3: 205011011034 | D3: 男 | F3: 汉族 | G3: 团员 | H3: 土木与规划学院 | I3: 城乡规划 | J3: 城乡规划2021级 | K3: 5 | L3: 贵州省黔东南州榕江县人才交流服务中心（榕江县古州西环北路55号） | M3: 人才交流服务中心 | N3: 0855-3921422 | O3: 15585838906 | P3: 1343651651734 | Q3: 1
A4: 2 | B4: 梁雪 | C4: 215011011001 | D4: 女 | E4: 2002-11-07 | F4: 汉族 | G4: 中共党员 | H4: 土木与规划学院 | I4: 城乡规划 | J4: 城乡规划2021级 | K4: 5 | L4: 贵州省遵义市汇川区汇川大道516号2楼 | M4: 档案室 | N4: 0851-28684021 | O4: 18892401152 | P4: 1343659420534 | Q4: 2
A5: 3 | B5: 万珊珊 | C5: 215011011002 | D5: 女 | E5: 2002-11-12 | F5: 汉族 | G5: 中共党员 | H5: 土木与规划学院 | I5: 城乡规划 | J5: 城乡规划2021级 | K5: 5 | L5: 贵州省遵义市湄潭县人才交流服务中心(湄潭县人社局办公大楼) | M5: 人才交流服务中心 | N5: 0851-24253248 | O5: 18885851436 | P5: 1343646983434 | Q5: 3
A6: 4 | B6: 邵菲 | C6: 215011011003 | D6: 女 | E6: 2003-02-19 | F6: 汉族 | G6: 中共党员 | H6: 土木与规划学院 | I6: 城乡规划 | J6: 城乡规划2021级 | K6: 5 | L6: 江苏省苏州市虎丘区滨河路1701号苏州科技大学建筑与城市规划学院 | M6: 张老师 | N6: 0512-68092469 | O6: 19885180219 | P6: 1343671171034 | Q6: 4
A7: 5 | B7: 许润菲 | C7: 215011011004 | D7: 女 | E7: 2002-07-02 | F7: 土家族 | G7: 团员 | H7: 土木与规划学院 | I7: 城乡规划 | J7: 城乡规划2021级 | K7: 5 | L7: 贵州省铜仁市沿河县人才交流服务中心（沿河县民族风情街人社局人才中心） | M7: 人才交流服务中心 | N7: 0856-6975396 | O7: 17588753798 | P7: 1343664360934 | Q7: 5
A8: 6 | B8: 罗亚 | C8: 215011011005 | D8: 男 | E8: 2002-03-17 | F8: 汉族 | G8: 团员 | H8: 土木与规划学院 | I8: 城乡规划 | J8: 城乡规划2021级 | K8: 5 | L8: 贵州省毕节市赫章县人才交流服务中心（赫章县白果会展中心7楼70021室） | M8: 档案室 | N8: 0857-3232718 | O8: 15121493364 | P8: 1343671173734 | Q8: 6
A9: 7 | B9: 王莹莹 | C9: 215011011006 | D9: 女 | E9: 2002-03-12 | F9: 汉族 | G9: 团员 | H9: 土木与规划学院 | I9: 城乡规划 | J9: 城乡规划2021级 | K9: 5 | L9: 贵州省六盘水市盘州市亦资街道胜境大道延长线宏财投资大厦16楼盘州市流动人员人事档案室 | M9: 档案室 | N9: 0858-3634300 | O9: 18216533341 | P9: 1343652628434 | Q9: 7
A10: 8 | B10: 杨振倩 | C10: 215011011007 | D10: 女 | E10: 2001-12-26 | F10: 侗族 | G10: 中共党员 | H10: 土木与规划学院 | I10: 城乡规划 | J10: 城乡规划2021级 | K10: 5 | L10: 贵州省黔东南州榕江县人才交流服务中心（榕江县古州西环北路55号） | M10: 人才交流服务中心 | N10: 0855-3921422 | O10: 19885917377 | P10: 1343663390734 | Q10: 8
A11: 9 | B11: 郭园园 | C11: 215011011008 | D11: 女 | E11: 2001-12-06 | F11: 汉族 | G11: 团员 | H11: 土木与规划学院 | I11: 城乡规划 | J11: 城乡规划2021级 | K11: 5 | L11: 贵州省遵义市绥阳县雅泉大道与红旗西路交汇处人社局一楼人才交流中心档案室 | M11: 档案室 | N11: 0851-26363057 | O11: 18885851422 | P11: 1343656488334 | Q11: 9
A12: 10 | B12: 陆月星 | C12: 215011011009 | D12: 女 | E12: 2001-02-08 | F12: 汉族 | G12: 团员 | H12: 土木与规划学院 | I12: 城乡规划 | J12: 城乡规划2021级 | K12: 5 | L12: 贵州省遵义市习水县人才交流服务中心习水县西城区人社局四楼 | M12: 档案室 | N12: 0851-22520160 | O12: 15085071510 | P12: 1343667309234 | Q12: 10
A13: 11 | B13: 刘浪 | C13: 215011011010 | D13: 男 | E13: 2001-04-08 | F13: 汉族 | G13: 团员 | H13: 土木与规划学院 | I13: 城乡规划 | J13: 城乡规划2021级 | K13: 5 | L13: 贵州省毕节市织金县人才交流服务中心（贵州省毕节市织金县三甲40米大道涌潮村唯亭路旁织金县人力资源和社会保障局人才交流服务中心5楼504室） | M13: 宋娅 | N13: 0857-7622412 | O13: 18386307612 | P13: 1343664363034 | Q13: 11
A14: 12 | B14: 赵秘 | C14: 215011011011 | D14: 女 | E14: 2001-11-08 | F14: 汉族 | G14: 中共党员 | H14: 土木与规划学院 | I14: 城乡规划 | J14: 城乡规划2021级 | K14: 5 | L14: 贵州省毕节市七星关区人才交流服务中心（七星关区工业大道邓家湾路口毕节市七星关区人力资源和社会保障局6楼602室） | M14: 人才交流服务中心 | N14: 0857—8947725 | O14: 18212627939 | P14: 1343663391534 | Q14: 12
A15: 13 | B15: 杨静 | C15: 215011011012 | D15: 女 | E15: 2000-10-03 | F15: 汉族 | G15: 群众 | H15: 土木与规划学院 | I15: 城乡规划 | J15: 城乡规划2021级 | K15: 5 | L15: 贵州省铜仁市松桃苗族自治县人力资源服务中心松桃县经济开发区企业服务中心8楼 | M15: 档案室 | N15: 0856-2832680 | O15: 18808581317 | P15: 1343651654834 | Q15: 13
A16: 14 | B16: 韦世宏 | C16: 215011011013 | D16: 男 | E16: 2001-10-05 | F16: 水族 | G16: 群众 | H16: 土木与规划学院 | I16: 城乡规划 | J16: 城乡规划2021级 | K16: 5 | L16: 贵州省黔南州三都水族自治县人才交流服务中心（三都水族自治县政务大厅E厅） | M16: 人才交流中心 | N16: 0854-3028568 | O16: 19255726342 | P16: 1343666329934 | Q16: 14
A17: 15 | B17: 杨毅 | C17: 215011011014 | D17: 男 | E17: 2001-11-08 | F17: 汉族 | G17: 中共党员 | H17: 土木与规划学院 | I17: 城乡规划 | J17: 城乡规划2021级 | K17: 5 | L17: 贵州省贵阳市息烽县人才交流服务中心（贵州省贵阳市息烽县南大街转盘玄天西路惠民巷） | M17: 档案室 | N17: 0851-87729755 | O17: 18166776670 | P17: 1343663393834 | Q17: 15
A18: 16 | B18: 聂青 | C18: 215011011015 | D18: 女 | E18: 2002-11-26 | F18: 汉族 | G18: 群众 | H18: 土木与规划学院 | I18: 城乡规划 | J18: 城乡规划2021级 | K18: 5 | L18: 贵州省毕节市七星关区人才交流服务中心（七星关区工业大道邓家湾路口毕节市七星关区人力资源和社会保障局6楼602室） | M18: 人才交流服务中心 | N18: 0857-8947725 | O18: 15599522605 | P18: 1343661357534 | Q18: 16
... A30: 28 | B30: 陈子璇 | C30: 215011011028 | D30: 女 | E30: 2003-04-30 | F30: 汉族 | G30: 群众 | H30: 土木与规划学院 | I30: 城乡规划 | J30: 城乡规划2021级 | K30: 5 | L30: 贵州省黔西南州兴仁市人才交流服务中心 | M30: 档案室 | N30: 0859-3220490 | O30: 18185989070 | P30: 1343669223334 | Q30: 28
A31: 29 | B31: 陈姗姗 | C31: 215011011029 | D31: 女 | E31: 2003-02-03 | F31: 壮族 | G31: 中共党员 | H31: 土木与规划学院 | I31: 城乡规划 | J31: 城乡规划2021级 | K31: 5 | L31: 贵州省黔东南州黎平县德凤街道右平街69号中共黎平县委组织部公务员管理办<322室> | M31: 龙正刚 | N31: 18908558905 | O31: 13057313117 | P31: 1343654508034 | Q31: 29
A32: 30 | B32: 张明虎 | C32: 215011011030 | D32: 男 | E32: 2003-06-19 | F32: 汉族 | G32: 团员 | H32: 土木与规划学院 | I32: 城乡规划 | J32: 城乡规划2021级 | K32: 5 | L32: 广西壮族自治区北海市合浦县公共就业服务中心（广西壮族自治区北海市合浦县廉州镇还珠大道42号） | M32: 档案管理股 | N32: 0779-7265366 | O32: 18577492564 | P32: 1343660415434 | Q32: 30
A33: 31 | B33: 杨心倩 | C33: 215011011032 | D33: 女 | E33: 2003-09-29 | F33: 汉族 | G33: 中共党员 | H33: 土木与规划学院 | I33: 城乡规划 | J33: 城乡规划2021级 | K33: 5 | L33: 湖北省荆州市荆州区人事档案服务中心 | M33: 档案科 | N33: 0716-8011656 | O33: 15717847951 | P33: 1343651657934 | Q33: 31
A34: 32 | B34: 胡俊达 | C34: 215011011033 | D34: 男 | E34: 2002-05-30 | F34: 汉族 | G34: 中共党员 | H34: 土木与规划学院 | I34: 城乡规划 | J34: 城乡规划2021级 | K34: 5 | L34: 福建省漳州市漳浦县人事人才公共服务中心（福建省漳浦县绥安镇金鹿路西路144号） | M34: 人事人才公共服务中心收 | N34: 0596-3103928 | O34: 15259628819 | P34: 1343667318534 | Q34: 32
A35: 33 | B35: 陈美言 | C35: 215011011034 | D35: 男 | E35: 2002-05-19 | F35: 汉族 | G35: 共青团员 | H35: 土木与规划学院 | I35: 城乡规划 | J35: 城乡规划2021级 | K35: 5 | L35: 四川省达州市人才交流中心（达州市通川区马踏洞市政务中心五楼C区） | M35: 档案管理部门 | N35: 0818-7932569 | O35: 13774868572 | P35: 1343672213934 | Q35: 33
A36: 34 | B36: 余小迪 | C36: 215011011035 | D36: 女 | E36: 2000-06-01 | F36: 土家族 | G36: 团员 | H36: 土木与规划学院 | I36: 城乡规划 | J36: 城乡规划2021级 | K36: 5 | L36: 贵州省铜仁市印江县人才交流服务中心（印江县峨岭街道泉州商贸城二楼） | M36: 档案室 | N36: 0856-6464003 | O36: 15108563836 | P36: 1343673161234 | Q36: 34
A37: 35 | B37: 赵晓宇 | C37: 215011011036 | D37: 男 | E37: 2001-06-19 | F37: 侗族 | G37: 团员 | H37: 土木与规划学院 | I37: 城乡规划 | J37: 城乡规划2021级 | K37: 5 | L37: 贵州省铜仁市玉屏侗族自治县人才交流中心 | M37: 档案管理部门 | N37: 0856-3229398 | O37: 18212461609 | P37: 1343673162634 | Q37: 35
A38: 36 | B38: 王杰 | C38: 215011011037 | D38: 男 | E38: 2001-09-04 | F38: 布依族 | G38: 群众 | H38: 土木与规划学院 | I38: 城乡规划 | J38: 城乡规划2021级 | K38: 5 | L38: 贵州省黔东南州丹寨县人力资源和社会保障局315室 | M38: 人才交流服务中心 | N38: 0855-3695369 | O38: 15338615718 | P38: 1343671179934 | Q38: 36
A39: 37 | B39: 王敏 | C39: 215011011038 | D39: 女 | E39: 2000-03-15 | F39: 彝族 | G39: 群众 | H39: 土木与规划学院 | I39: 城乡规划 | J39: 城乡规划2021级 | K39: 5 | L39: 贵州省毕节市百里杜鹃管理区自然资源局和社会保障局（百里杜鹃鹏程街道百里杜鹃游客服务中心5103室） | M39: 档案室 | N39: 0857-4887166 | O39: 18386345493 | P39: 1343649917834 | Q39: 37
A40: 38 | B40: 赵婷 | C40: 215011011039 | D40: 女 | E40: 2001-03-11 | F40: 苗族 | G40: 团员 | H40: 土木与规划学院 | I40: 城乡规划 | J40: 城乡规划2021级 | K40: 5 | L40: 贵州省遵义市道真仡佬族苗族自治县人才交流服务中心（道真仡佬族苗族自治县尹珍大道长朝巷14号） | M40: 档案室 | N40: 0851-23130079 | O40: 18208424912 | P40: 1343676050334 | Q40: 38
A41: 39 | B41: 王刚 | C41: 215011011040 | D41: 男 | E41: 2000-10-27 | F41: 苗族 | G41: 团员 | H41: 土木与规划学院 | I41: 城乡规划 | J41: 城乡规划2021级 | K41: 5 | L41: 贵州六盘水市钟山区人才交流中心（贵州省六盘水市钟山区凤凰街道政通路7号） | M41: 档案室 | N41: 08586348606 | O41: 19985481526 | P41: 1350678737734 | Q41: 39
A42: 40 | B42: 黄建英 | C42: 215011011041 | D42: 女 | E42: 2001-08-20 | F42: 苗族 | G42: 共青团员 | H42: 土木与规划学院 | I42: 城乡规划 | J42: 城乡规划2021级 | K42: 5 | L42: 贵州省黔南州罗甸县龙坪镇档案局2楼人社局档案室 | M42: 人力资源和社会保障局 | N42: 0854-7711966 | O42: 15339581414 | P42: 1343660419934 | Q42: 40
A43: 41 | B43: 杨热敏 | C43: 215011011042 | D43: 女 | E43: 2000-10-02 | F43: 侗族 | G43: 共青团员 | H43: 土木与规划学院 | I43: 城乡规划 | J43: 城乡规划2021级 | K43: 5 | L43: 贵州省黔东南州黎平县就业局（黎平县南泉山政务中心） | M43: 就业局 | N43: 0855-3966806 | O43: 18685514376 | P43: 1343660420834 | Q43: 41
... A46: 44 | B46: 姜智丽 | C46: 215011011045 | D46: 女 | E46: 2000-10-02 | F46: 侗族 | G46: 共青团员 | H46: 土木与规划学院 | I46: 城乡规划 | J46: 城乡规划2021级 | K46: 5 | L46: 贵州省黔东南州剑河县人力资源和社会保障局 | M46: 人力资源和社会保障局 | N46: 0855-5228097 | O46: 18785596519 | P46: 1343671182534 | Q46: 44
A47: 45 | B47: 杨优优 | C47: 220110131006 | D47: =VLOOKUP(C:C,[1]共【9386】条数据!$A:$I,9,0) -> 男 | F47: 汉族 | G47: 群众 | H47: 土木与规划学院 | I47: 城乡规划 | J47: 城乡规划2021级 | L47: 贵州省黔南州长顺县人才交流中心 | M47: 人才交流中心 | N47: 0854-6821963 | O47: 15382720363 | P47: 1343658479034 | Q47: 45
A48: 46 | B48: 周金莲 | C48: 233204231002 | D48: =VLOOKUP(C:C,[1]共【9386】条数据!$A:$I,9,0) -> 女 | E48: 2001-04-25 | F48: 汉族 | G48: 群众 | H48: 土木与规划学院 | I48: 城乡规划 | J48: 城乡规划2023级专升本 | K48: 三年 | L48: 贵州省毕节市七星关区人才交流服务中心（七星关区工业大道邓家湾路口毕节市七星关区人力资源和社会保障局6楼602室） | M48: 人才交流服务中心 | N48: 0857-8947725 | O48: 18486412786 | P48: 1343667321734 | Q48: 46
A49: 47 | B49: 周勇春 | C49: 233204231003 | D49: =VLOOKUP(C:C,[1]共【9386】条数据!$A:$I,9,0) -> 女 | E49: 2002-02-15 | F49: 汉族 | G49: 中共党员 | H49: 土木与规划学院 | I49: 城乡规划 | J49: 城乡规划2023级专升本 | K49: 三年 | L49: 贵州省六盘水市六枝特区就业局（六枝特区九龙街道贵烟路桃花湖旁） | M49: 就业局 | N49: 0858-5322113 | O49: 13885877232 | P49: 1343672216034 | Q49: 47
A50: 48 | B50: 王伟 | C50: 233204231004 | D50: =VLOOKUP(C:C,[1]共【9386】条数据!$A:$I,9,0) -> 男 | E50: 2002-03-04 | F50: 汉族 | G50: 群众 | H50: 土木与规划学院 | I50: 城乡规划 | J50: 城乡规划2023级专升本 | K50: 三年 | L50: 贵州省遵义市湄潭县人才交流服务中心（湄潭县人社局办公大楼） | M50: 人才交流服务中心 | N50: 0851-24253248 | O50: 18985662966 | P50: 1343666339534 | Q50: 48
A51: 49 | B51: 杨胜城 | C51: 233204231005 | D51: =VLOOKUP(C:C,[1]共【9386】条数据!$A:$I,9,0) -> 男 | E51: 2002-04-02 | F51: 苗族 | G51: 共青团员 | H51: 土木与规划学院 | I51: 城乡规划 | J51: 城乡规划2023级专升本 | K51: 三年 | L51: 贵州省黔东南州凯里市人才交流服务中心（凯里市金山大道18号市人社局605室） | M51: 档案室 | N51: 0855-8255985 | O51: 17678955147 | P51: 1343658480934 | Q51: 49
A52: 50 | B52: 谢琳娜 | C52: 233204231006 | D52: =VLOOKUP(C:C,[1]共【9386】条数据!$A:$I,9,0) -> 女 | E52: 2001-10-13 | F52: 白族 | G52: 群众 | H52: 土木与规划学院 | I52: 城乡规划 | J52: 城乡规划2023级专升本 | K52: 三年 | L52: 贵州省毕节市纳雍县人力资源和社会保障局人才交流中心 | M52: 纳雍县人才交流中心 | N52: 0857-3536006 | O52: 19110734267 | P52: 1343664371434 | Q52: 50
A53: 51 | B53: 吴斌 | C53: 233204231007 | D53: =VLOOKUP(C:C,[1]共【9386】条数据!$A:$I,9,0) -> 男 | E53: 2001-08-04 | F53: 水族 | G53: 共青团员 | H53: 土木与规划学院 | I53: 城乡规划 | J53: 城乡规划2023级专升本 | K53: 三年 | L53: 贵州省贵阳市人才交流服务中心（观山湖区阳关大道28号国际人才城） | M53: 档案室 | N53: 0851-85280156 | O53: 17785690804 | P53: 1343664372834 | Q53: 51
...
