Workbook

Sheet 2026届毕业生档案邮寄名单
A1: 2026届毕业生档案邮寄名单
A2: 序号 | B2: 姓名 | C2: 学号 | D2: 性别 | E2: 出生日期 | F2: 民族 | G2: 政治面貌 | H2: 学院 | I2: 专业 | J2: 城乡规划2021级 | K2: 学制 | L2: 档案邮寄接收单位或地址 | M2: 档案接收人姓名 | N2: 档案接收人联系电话 | O2: 学生本人联系电话 | P2: 邮件单号号 | Q2: 备注
A3: 1 | B3: 刘序强 | C3: 205011011034 | D3: 男 | F3: 汉族 | G3: 团员 | H3: 土木与规划学院 | I3: 城乡规划 | J3: 城乡规划2021级 | K3: 5 | L3: 贵州省黔东南州榕江县人才交流服务中心（榕江县古州西环北路55号） | M3: 人才交流服务中心 | N3: 0855-3921422 | O3: 15585838906 | P3: 1343651651734 | Q3: 1
A4: 2 | B4: 梁雪 | C4: 215011011001 | D4: 女 | E4: 2002-11-07 | F4: 汉族 | G4: 中共党员 | H4: 土木与规划学院 | I4: 城乡规划 | J4: 城乡规划2021级 | K4: 5 | L4: 贵州省遵义市汇川区汇川大道516号2楼 | M4: 档案室 | N4: 0851-28684021 | O4: 18892401152 | P4: 1343659420534 | Q4: 2
A5: 3 | B5: 万珊珊 | C5: 215011011002 | D5: 女 | E5: 2002-11-12 | F5: 汉族 | G5: 中共党员 | H5: 土木与规划学院 | I5: 城乡规划 | J5: 城乡规划2021级 | K5: 5 | L5: 贵州省遵义市湄潭县人才交流服务中心(湄潭县人社局办公大楼) | M5: 人才交流服务中心 | N5: 0851-24253248 | O5: 18885851436 | P5: 1343646983434 | Q5: 3
A6: 4 | B6: 邵菲 | C6: 215011011003 | D6: 女 | E6: 2003-02-19 | F6: 汉族 | G6: 中共党员 | H6: 土木与规划学院 | I6: 城乡规划 | J6: 城乡规划2021级 | K6: 5 | L6: 江苏省苏州市虎丘区滨河路1701号苏州科技大学建筑与城市规划学院 | M6: 张老师 | N6: 0512-68092469 | O6: 19885180219 | P6: 1343671171034 | Q6: 4
A7: 5 | B7: 许润菲 | C7: 215011011004 | D7: 女 | E7: 2002-07-02 | F7: 土家族 | G7: 团员 | H7: 土木与规划学院 | I7: 城乡规划 | J7: 城乡规划2021级 | K7: 5 | L7: 贵州省铜仁市沿河县人才交流服务中心（沿河县民族风情街人社局人才中心） | M7: 人才交流服务中心 | N7: 0856-6975396 | O7: 17588753798 | P7: 1343664360934 | Q7: 5
A8: 6 | B8: 罗亚 | C8: 215011011005 | D8: 男 | E8: 2002-03-17 | F8: 汉族 | G8: 团员 | H8: 土木与规划学院 | I8: 城乡规划 | J8: 城乡规划2021级 | K8: 5 | L8: 贵州省毕节市赫章县人才交流服务中心（赫章县白果会展中心7楼70021室） | M8: 档案室 | N8: 0857-3232718 | O8: 15121493364 | P8: 1343671173734 | Q8: 6
A9: 7 | B9: 王莹莹 | C9: 215011011006 | D9: 女 | E9: 2002-03-12 | F9: 汉族 | G9: 团员 | H9: 土木与规划学院 | I9: 城乡规划 | J9: 城乡规划2021级 | K9: 5 | L9: 贵州省六盘水市盘州市亦资街道胜境大道延长线宏财投资大厦16楼盘州市流动人员人事档案室 | M9: 档案室 | N9: 0858-3634300 | O9: 18216533341 | P9: 1343652628434 | Q9: 7
A10: 8 | B10: 杨振倩 | C10: 215011011007 | D10: 女 | E10: 2001-12-26 | F10: 侗族 | G10: 中共党员 | H10: 土木与规划学院 | I10: 城乡规划 | J10: 城乡规划2021级 | K10: 5 | L10: 贵州省黔东南州榕江县人才交流服务中心（榕江县古州西环北路55号） | M10: 人才交流服务中心 | N10: 0855-3921422 | O10: 19885917377 | P10: 1343663390734 | Q10: 8
A11: 9 | B11: 郭园园 | C11: 215011011008 | D11: 女 | E11: 2001-12-06 | F11: 汉族 | G11: 团员 | H11: 土木与规划学院 | I11: 城乡规划 | J11: 城乡规划2021级 | K11: 5 | L11: 贵州省遵义市绥阳县雅泉大道与红旗西路交汇处人社局一楼人才交流中心档案室 | M11: 档案室 | N11: 0851-26363057 | O11: 18885851422 | P11: 1343656488334 | Q11: 9
A12: 10 | B12: 陆月星 | C12: 215011011009 | D12: 女 | E12: 2001-02-08 | F12: 汉族 | G12: 团员 | H12: 土木与规划学院 | I12: 城乡规划 | J12: 城乡规划2021级 | K12: 5 | L12: 贵州省遵义市习水县人才交流服务中心习水县西城区人社局四楼 | M12: 档案室 | N12: 0851-22520160 | O12: 15085071510 | P12: 1343667309234 | Q12: 10
A13: 11 | B13: 刘浪 | C13: 215011011010 | D13: 男 | E13: 2001-04-08 | F13: 汉族 | G13: 团员 | H13: 土木与规划学院 | I13: 城乡规划 | J13: 城乡规划2021级 | K13: 5 | L13: 贵州省毕节市织金县人才交流服务中心（贵州省毕节市织金县三甲40米大道涌潮村唯亭路旁织金县人力资源和社会保障局人才交流服务中心5楼504室） | M13: 宋娅 | N13: 0857-7622412 | O13: 18386307612 | P13: 1343664363034 | Q13: 11
A14: 12 | B14: 赵秘 | C14: 215011011011 | D14: 女 | E14: 2001-11-08 | F14: 汉族 | G14: 中共党员 | H14: 土木与规划学院 | I14: 城乡规划 | J14: 城乡规划2021级 | K14: 5 | L14: 贵州省毕节市七星关区人才交流服务中心（七星关区工业大道邓家湾路口毕节市七星关区人力资源和社会保障局6楼602室） | M14: 人才交流服务中心 | N14: 0857—8947725 | O14: 18212627939 | P14: 1343663391534 | Q14: 12
A15: 13 | B15: 杨静 | C15: 215011011012 | D15: 女 | E15: 2000-10-03 | F15: 汉族 | G15: 群众 | H15: 土木与规划学院 | I15: 城乡规划 | J15: 城乡规划2021级 | K15: 5 | L15: 贵州省铜仁市松桃苗族自治县人力资源服务中心松桃县经济开发区企业服务中心8楼 | M15: 档案室 | N15: 0856-2832680 | O15: 18808581317 | P15: 1343651654834 | Q15: 13
A16: 14 | B16: 韦世宏 | C16: 215011011013 | D16: 男 | E16: 2001-10-05 | F16: 水族 | G16: 群众 | H16: 土木与规划学院 | I16: 城乡规划 | J16: 城乡规划2021级 | K16: 5 | L16: 贵州省黔南州三都水族自治县人才交流服务中心（三都水族自治县政务大厅E厅） | M16: 人才交流中心 | N16: 0854-3028568 | O16: 19255726342 | P16: 1343666329934 | Q16: 14
A17: 15 | B17: 杨毅 | C17: 215011011014 | D17: 男 | E17: 2001-11-08 | F17: 汉族 | G17: 中共党员 | H17: 土木与规划学院 | I17: 城乡规划 | J17: 城乡规划2021级 | K17: 5 | L17: 贵州省贵阳市息烽县人才交流服务中心（贵州省贵阳市息烽县南大街转盘玄天西路惠民巷） | M17: 档案室 | N17: 0851-87729755 | O17: 18166776670 | P17: 1343663393834 | Q17: 15
A18: 16 | B18: 聂青 | C18: 215011011015 | D18: 女 | E18: 2002-11-26 | F18: 汉族 | G18: 群众 | H18: 土木与规划学院 | I18: 城乡规划 | J18: 城乡规划2021级 | K18: 5 | L18: 贵州省毕节市七星关区人才交流服务中心（七星关区工业大道邓家湾路口毕节市七星关区人力资源和社会保障局6楼602室） | M18: 人才交流服务中心 | N18: 0857-8947725 | O18: 15599522605 | P18: 1343661357534 | Q18: 16
... A30: 28 | B30: 陈子璇 | C30: 215011011028 | D30: 女 | E30: 2003-04-30 | F30: 汉族 | G30: 群众 | H30: 土木与规划学院 | I30: 城乡规划 | J30: 城乡规划2021级 | K30: 5 | L30: 贵州省黔西南州兴仁市人才交流服务中心 | M30: 档案室 | N30: 0859-3220490 | O30: 18185989070 | P30: 1343669223334 | Q30: 28
A31: 29 | B31: 陈姗姗 | C31: 215011011029 | D31: 女 | E31: 2003-02-03 | F31: 壮族 | G31: 中共党员 | H31: 土木与规划学院 | I31: 城乡规划 | J31: 城乡规划2021级 | K31: 5 | L31: 贵州省黔东南州黎平县德凤街道右平街69号中共黎平县委组织部公务员管理办<322室> | M31: 龙正刚 | N31: 18908558905 | O31: 13057313117 | P31: 1343654508034 | Q31: 29
A32: 30 | B32: 张明虎 | C32: 215011011030 | D32: 男 | E32: 2003-06-19 | F32: 汉族 | G32: 团员 | H32: 土木与规划学院 | I32: 城乡规划 | J32: 城乡规划2021级 | K32: 5 | L32: 广西壮族自治区北海市合浦县公共就业服务中心（广西壮族自治区北海市合浦县廉州镇还珠大道42号） | M32: 档案管理股 | N32: 0779-7265366 | O32: 18577492564 | P32: 1343660415434 | Q32: 30
A33: 31 | B33: 杨心倩 | C33: 215011011032 | D33: 女 | E33: 2003-09-29 | F33: 汉族 | G33: 中共党员 | H33: 土木与规划学院 | I33: 城乡规划 | J33: 城乡规划2021级 | K33: 5 | L33: 湖北省荆州市荆州区人事档案服务中心 | M33: 档案科 | N33: 0716-8011656 | O33: 15717847951 | P33: 1343651657934 | Q33: 31
A34: 32 | B34: 胡俊达 | C34: 215011011033 | D34: 男 | E34: 2002-05-30 | F34: 汉族 | G34: 中共党员 | H34: 土木与规划学院 | I34: 城乡规划 | J34: 城乡规划2021级 | K34: 5 | L34: 福建省漳州市漳浦县人事人才公共服务中心（福建省漳浦县绥安镇金鹿路西路144号） | M34: 人事人才公共服务中心收 | N34: 0596-3103928 | O34: 15259628819 | P34: 1343667318534 | Q34: 32
A35: 33 | B35: 陈美言 | C35: 215011011034 | D35: 男 | E35: 2002-05-19 | F35: 汉族 | G35: 共青团员 | H35: 土木与规划学院 | I35: 城乡规划 | J35: 城乡规划2021级 | K35: 5 | L35: 四川省达州市人才交流中心（达州市通川区马踏洞市政务中心五楼C区） | M35: 档案管理部门 | N35: 0818-7932569 | O35: 13774868572 | P35: 1343672213934 | Q35: 33
A36: 34 | B36: 余小迪 | C36: 215011011035 | D36: 女 | E36: 2000-06-01 | F36: 土家族 | G36: 团员 | H36: 土木与规划学院 | I36: 城乡规划 | J36: 城乡规划2021级 | K36: 5 | L36: 贵州省铜仁市印江县人才交流服务中心（印江县峨岭街道泉州商贸城二楼） | M36: 档案室 | N36: 0856-6464003 | O36: 15108563836 | P36: 1343673161234 | Q36: 34
A37: 35 | B37: 赵晓宇 | C37: 215011011036 | D37: 男 | E37: 2001-06-19 | F37: 侗族 | G37: 团员 | H37: 土木与规划学院 | I37: 城乡规划 | J37: 城乡规划2021级 | K37: 5 | L37: 贵州省铜仁市玉屏侗族自治县人才交流中心 | M37: 档案管理部门 | N37: 0856-3229398 | O37: 18212461609 | P37: 1343673162634 | Q37: 35
A38: 36 | B38: 王杰 | C38: 215011011037 | D38: 男 | E38: 2001-09-04 | F38: 布依族 | G38: 群众 | H38: 土木与规划学院 | I38: 城乡规划 | J38: 城乡规划2021级 | K38: 5 | L38: 贵州省黔东南州丹寨县人力资源和社会保障局315室 | M38: 人才交流服务中心 | N38: 0855-3695369 | O38: 15338615718 | P38: 1343671179934 | Q38: 36
A39: 37 | B39: 王敏 | C39: 215011011038 | D39: 女 | E39: 2000-03-15 | F39: 彝族 | G39: 群众 | H39: 土木与规划学院 | I39: 城乡规划 | J39: 城乡规划2021级 | K39: 5 | L39: 贵州省毕节市百里杜鹃管理区自然资源局和社会保障局（百里杜鹃鹏程街道百里杜鹃游客服务中心5103室） | M39: 档案室 | N39: 0857-4887166 | O39: 18386345493 | P39: 1343649917834 | Q39: 37
A40: 38 | B40: 赵婷 | C40: 215011011039 | D40: 女 | E40: 2001-03-11 | F40: 苗族 | G40: 团员 | H40: 土木与规划学院 | I40: 城乡规划 | J40: 城乡规划2021级 | K40: 5 | L40: 贵州省遵义市道真仡佬族苗族自治县人才交流服务中心（道真仡佬族苗族自治县尹珍大道长朝巷14号） | M40: 档案室 | N40: 0851-23130079 | O40: 18208424912 | P40: 1343676050334 | Q40: 38
A41: 39 | B41: 王刚 | C41: 215011011040 | D41: 男 | E41: 2000-10-27 | F41: 苗族 | G41: 团员 | H41: 土木与规划学院 | I41: 城乡规划 | J41: 城乡规划2021级 | K41: 5 | L41: 贵州六盘水市钟山区人才交流中心（贵州省六盘水市钟山区凤凰街道政通路7号） | M41: 档案室 | N41: 08586348606 | O41: 19985481526 | P41: 1350678737734 | Q41: 39
A42: 40 | B42: 黄建英 | C42: 215011011041 | D42: 女 | E42: 2001-08-20 | F42: 苗族 | G42: 共青团员 | H42: 土木与规划学院 | I42: 城乡规划 | J42: 城乡规划2021级 | K42: 5 | L42: 贵州省黔南州罗甸县龙坪镇档案局2楼人社局档案室 | M42: 人力资源和社会保障局 | N42: 0854-7711966 | O42: 15339581414 | P42: 1343660419934 | Q42: 40
A43: 41 | B43: 杨热敏 | C43: 215011011042 | D43: 女 | E43: 2000-10-02 | F43: 侗族 | G43: 共青团员 | H43: 土木与规划学院 | I43: 城乡规划 | J43: 城乡规划2021级 | K43: 5 | L43: 贵州省黔东南州黎平县就业局（黎平县南泉山政务中心） | M43: 就业局 | N43: 0855-3966806 | O43: 18685514376 | P43: 1343660420834 | Q43: 41
... A46: 44 | B46: 姜智丽 | C46: 215011011045 | D46: 女 | E46: 2000-10-02 | F46: 侗族 | G46: 共青团员 | H46: 土木与规划学院 | I46: 城乡规划 | J46: 城乡规划2021级 | K46: 5 | L46: 贵州省黔东南州剑河县人力资源和社会保障局 | M46: 人力资源和社会保障局 | N46: 0855-5228097 | O46: 18785596519 | P46: 1343671182534 | Q46: 44
A47: 45 | B47: 杨优优 | C47: 220110131006 | D47: =VLOOKUP(C:C,[1]共【9386】条数据!$A:$I,9,0) -> 男 | F47: 汉族 | G47: 群众 | H47: 土木与规划学院 | I47: 城乡规划 | J47: 城乡规划2021级 | L47: 贵州省黔南州长顺县人才交流中心 | M47: 人才交流中心 | N47: 0854-6821963 | O47: 15382720363 | P47: 1343658479034 | Q47: 45
A48: 46 | B48: 周金莲 | C48: 233204231002 | D48: =VLOOKUP(C:C,[1]共【9386】条数据!$A:$I,9,0) -> 女 | E48: 2001-04-25 | F48: 汉族 | G48: 群众 | H48: 土木与规划学院 | I48: 城乡规划 | J48: 城乡规划2023级专升本 | K48: 三年 | L48: 贵州省毕节市七星关区人才交流服务中心（七星关区工业大道邓家湾路口毕节市七星关区人力资源和社会保障局6楼602室） | M48: 人才交流服务中心 | N48: 0857-8947725 | O48: 18486412786 | P48: 1343667321734 | Q48: 46
A49: 47 | B49: 周勇春 | C49: 233204231003 | D49: =VLOOKUP(C:C,[1]共【9386】条数据!$A:$I,9,0) -> 女 | E49: 2002-02-15 | F49: 汉族 | G49: 中共党员 | H49: 土木与规划学院 | I49: 城乡规划 | J49: 城乡规划2023级专升本 | K49: 三年 | L49: 贵州省六盘水市六枝特区就业局（六枝特区九龙街道贵烟路桃花湖旁） | M49: 就业局 | N49: 0858-5322113 | O49: 13885877232 | P49: 1343672216034 | Q49: 47
A50: 48 | B50: 王伟 | C50: 233204231004 | D50: =VLOOKUP(C:C,[1]共【9386】条数据!$A:$I,9,0) -> 男 | E50: 2002-03-04 | F50: 汉族 | G50: 群众 | H50: 土木与规划学院 | I50: 城乡规划 | J50: 城乡规划2023级专升本 | K50: 三年 | L50: 贵州省遵义市湄潭县人才交流服务中心（湄潭县人社局办公大楼） | M50: 人才交流服务中心 | N50: 0851-24253248 | O50: 18985662966 | P50: 1343666339534 | Q50: 48
A51: 49 | B51: 杨胜城 | C51: 233204231005 | D51: =VLOOKUP(C:C,[1]共【9386】条数据!$A:$I,9,0) -> 男 | E51: 2002-04-02 | F51: 苗族 | G51: 共青团员 | H51: 土木与规划学院 | I51: 城乡规划 | J51: 城乡规划2023级专升本 | K51: 三年 | L51: 贵州省黔东南州凯里市人才交流服务中心（凯里市金山大道18号市人社局605室） | M51: 档案室 | N51: 0855-8255985 | O51: 17678955147 | P51: 1343658480934 | Q51: 49
A52: 50 | B52: 谢琳娜 | C52: 233204231006 | D52: =VLOOKUP(C:C,[1]共【9386】条数据!$A:$I,9,0) -> 女 | E52: 2001-10-13 | F52: 白族 | G52: 群众 | H52: 土木与规划学院 | I52: 城乡规划 | J52: 城乡规划2023级专升本 | K52: 三年 | L52: 贵州省毕节市纳雍县人力资源和社会保障局人才交流中心 | M52: 纳雍县人才交流中心 | N52: 0857-3536006 | O52: 19110734267 | P52: 1343664371434 | Q52: 50
A53: 51 | B53: 吴斌 | C53: 233204231007 | D53: =VLOOKUP(C:C,[1]共【9386】条数据!$A:$I,9,0) -> 男 | E53: 2001-08-04 | F53: 水族 | G53: 共青团员 | H53: 土木与规划学院 | I53: 城乡规划 | J53: 城乡规划2023级专升本 | K53: 三年 | L53: 贵州省贵阳市人才交流服务中心（观山湖区阳关大道28号国际人才城） | M53: 档案室 | N53: 0851-85280156 | O53: 17785690804 | P53: 1343664372834 | Q53: 51
A54: 52 | B54: 王宗艳 | C54: 233204231009 | D54: =VLOOKUP(C:C,[1]共【9386】条数据!$A:$I,9,0) -> 女 | E54: 2000-11-08 | F54: 汉族 | G54: 共青团员 | H54: 土木与规划学院 | I54: 城乡规划 | J54: 城乡规划2023级专升本 | K54: 三年 | L54: 贵州省六盘水市钟山区人才交流中心（凤凰街道政通路7号） | M54: 六盘水市钟山区人才交流中心 | N54: 0858-6348606 | O54: 17685189790 | P54: 1343672217334 | Q54: 52
A55: 53 | B55: 贾静 | C55: 233204231011 | D55: =VLOOKUP(C:C,[1]共【9386】条数据!$A:$I,9,0) -> 女 | E55: 2001-11-15 | F55: 汉族 | G55: 共青团员 | H55: 土木与规划学院 | I55: 城乡规划 | J55: 城乡规划2023级专升本 | K55: 三年 | L55: 贵州省遵义市桐梓县人才交流服务中心（桐梓县蟠龙大道城投大厦七楼711室） | M55: 人才交流服务中心 | N55: 0851-26627724 | O55: 18586715239 | P55: 1343666341334 | Q55: 53
A56: 54 | B56: 罗正良 | C56: 233204231012 | D56: =VLOOKUP(C:C,[1]共【9386】条数据!$A:$I,9,0) -> 男 | E56: 2001-10-24 | F56: 布依族 | G56: 群众 | H56: 土木与规划学院 | I56: 城乡规划 | J56: 城乡规划2023级专升本 | K56: 三年 | L56: 贵州省贵阳市人才交流服务中心（观山湖区阳关大道28号国际人才城） | M56: 档案室 | N56: 0851-85280156 | O56: 15285197015 | P56: 1343648892134 | Q56: 54
A57: 55 | B57: 赵强 | C57: 233204231013 | D57: =VLOOKUP(C:C,[1]共【9386】条数据!$A:$I,9,0) -> 男 | E57: 1999-09-20 | F57: 汉族 | G57: 群众 | H57: 土木与规划学院 | I57: 城乡规划 | J57: 城乡规划2023级专升本 | K57: 三年 | L57: 贵州省毕节市织金县人才交流服务中心（织金县三甲40米大道涌潮村唯亭路旁织金县人力资源和社会保障局人才交流服务中心5楼504室） | M57: 宋娅 | N57: 0857-7622412 | O57: 18486192348 | P57: 1343648893534 | Q57: 55
A58: 56 | B58: 周萱 | C58: 233204231014 | D58: =VLOOKUP(C:C,[1]共【9386】条数据!$A:$I,9,0) -> 女 | E58: 2002-09-26 | F58: 彝族 | G58: 共青团员 | H58: 土木与规划学院 | I58: 城乡规划 | J58: 城乡规划2023级专升本 | K58: 三年 | L58: 贵州省毕节市织金县三甲街道人才交流服务中心（织金县三甲40米大道涌潮村唯亭路旁织金县人力资源和社会保障局人才交流服务中心5楼504室） | M58: 档案室 | N58: 0857-7622412 | O58: 18096130823 | P58: 1343656499934 | Q58: 56
A59: 57 | B59: 罗林 | C59: 233204231015 | D59: =VLOOKUP(C:C,[1]共【9386】条数据!$A:$I,9,0) -> 男 | E59: 2001-12-06 | F59: 汉族 | G59: 群众 | H59: 土木与规划学院 | I59: 城乡规划 | J59: 城乡规划2023级专升本 | K59: 三年 | L59: 贵州省毕节市金沙县就业促进局流动人口档案管理中心（贵州省毕节市金沙县鼓场街道长安街92号） | M59: 李秋梅 | N59: 0857-7373328 | O59: 16686923766 | P59: 1343665290634 | Q59: 57
... A69: 67 | B69: 王强 | C69: 233204231025 | D69: =VLOOKUP(C:C,[1]共【9386】条数据!$A:$I,9,0) -> 男 | E69: 1998-11-10 | F69: 汉族 | G69: 中共党员 | H69: 土木与规划学院 | I69: 城乡规划 | J69: 城乡规划2023级专升本 | K69: 三年 | L69: 贵州省毕节市七星关区工业大道邓家湾路口七星关区人力资源和社会保障局2楼602办公室 | M69: 人才交流服务中心 | N69: 0857-8947725 | O69: 19885500528 | P69: 1343659448834 | Q69: 67
A70: 68 | B70: 祝瑞雪 | C70: 233204231026 | D70: =VLOOKUP(C:C,[1]共【9386】条数据!$A:$I,9,0) -> 女 | E70: 2002-04-05 | F70: 汉族 | G70: 共青团员 | H70: 土木与规划学院 | I70: 城乡规划 | J70: 城乡规划2023级专升本 | K70: 三年 | L70: 贵州省贵阳观山湖区市人才服务中心（观山湖区阳关大道28号国际人才城） | M70: 档案室 | N70: 0851-85280156 | O70: 18188107186 | P70: 1349502180934 | Q70: 68
A71: 69 | B71: 陈江花 | C71: 233204231027 | D71: =VLOOKUP(C:C,[1]共【9386】条数据!$A:$I,9,0) -> 女 | E71: 2000-11-13 | F71: 布依族 | G71: 共青团员 | H71: 土木与规划学院 | I71: 城乡规划 | J71: 城乡规划2023级专升本 | K71: 三年 | L71: 贵州省黔南州惠水县城北办公区三组团2楼人力资源社会保障局 | M71: 惠水县人才服务中心 | N71: 0854-6532488 | O71: 18886419915 | P71: 1343674159734 | Q71: 69
A72: 1 | B72: 龚巧遇 | C72: 220010141001 | D72: 女 | E72: 1970-01-01 | F72: 侗族 | G72: 团员 | H72: 马克思主义学院 | I72: 思想政治教育（预升本） | J72: 思想政治教育2022级 | K72: 4 | L72: 贵州省黔东南苗族侗族自治州锦屏县三江镇红宝石广场7栋3单位4楼 | M72: 档案室 | N72: 0855-3901323 | O72: 13638051945 | P72: 1343677009434 | Q72: 70
A73: 2 | B73: 胡栅焰 | C73: 220010141002 | D73: 女 | E73: 1970-01-01 | F73: 仡佬族 | G73: 中共预备党员 | H73: 马克思主义学院 | I73: 思想政治教育（预升本） | J73: 思想政治教育2022级 | K73: 4 | L73: 贵州省遵义市道真仡佬族苗族自治县人才交流服务中心（道真仡佬族苗族自治县尹珍大道长朝巷14号） | M73: 档案室 | N73: 0851-23130079 | O73: 18885855713 | P73: 1343666343534 | Q73: 71
A74: 3 | B74: 黄晓娟 | C74: 220010141003 | D74: 女 | E74: 1970-01-01 | F74: 布依族 | G74: 团员 | H74: 马克思主义学院 | I74: 思想政治教育（预升本） | J74: 思想政治教育2022级 | K74: 4 | L74: 贵州省黔南州罗甸县人力资源和社会保障局（罗甸县龙坪镇档案局2楼人社局档案室） | M74: 档案室 | N74: 0854-7711966 | O74: 18593880462 | P74: 1343667326534 | Q74: 72
A75: 4 | B75: 江明垚 | C75: 220010141004 | D75: 女 | E75: 1970-01-01 | F75: 彝族 | G75: 团员 | H75: 马克思主义学院 | I75: 思想政治教育（预升本） | J75: 思想政治教育2022级 | K75: 4 | L75: 贵州省六盘水市六枝特区九龙街道贵烟路桃花湖旁 | M75: 档案室 | N75: 0858-5322113 | O75: 18286861889 | P75: 1343664374534 | Q75: 73
A76: 5 | B76: 卢有利 | C76: 220010141006 | D76: 女 | E76: 1970-01-01 | F76: 布依族 | G76: 团员 | H76: 马克思主义学院 | I76: 思想政治教育（预升本） | J76: 思想政治教育2022级 | K76: 4 | L76: 广西壮族自治区桂林市雁山区雁山街319号桂林理工大学（雁山校区）马克思主义学院07403室 | M76: 张老师 | N76: 0773-3698618 | O76: 18286997915 | P76: 1343647941734 | Q76: 74
A77: 6 | B77: 罗金 | C77: 220010141007 | D77: 女 | E77: 1970-01-01 | F77: 布依族 | G77: 团员 | H77: 马克思主义学院 | I77: 思想政治教育（预升本） | J77: 思想政治教育2022级 | K77: 4 | L77: 贵州省黔南布依族苗族自治州都匀市南洲国际马鞍山小区安置房A区11幢1楼 | M77: 档案室 | N77: 0854-8250330 | O77: 19886740208 | P77: 1343655533434 | Q77: 75
A78: 7 | B78: 潘胜琴 | C78: 220010141008 | D78: 女 | E78: 1970-01-01 | F78: 苗族 | G78: 团员 | H78: 马克思主义学院 | I78: 思想政治教育（预升本） | J78: 思想政治教育2022级 | K78: 4 | L78: 贵州省黔东南州凯里市人才交流服务中心（凯里市金山大道18号605室） | M78: 档案室 | N78: 0855-8255985 | O78: 13096854045 | P78: 1343656502234 | Q78: 76
A79: 8 | B79: 潘恬恬 | C79: 220010141009 | D79: 女 | E79: 1970-01-01 | F79: 侗族 | G79: 群众 | H79: 马克思主义学院 | I79: 思想政治教育（预升本） | J79: 思想政治教育2022级 | K79: 4 | L79: 贵州省黔东南州从江县人才交流服务中心（从江县銮里大道） | M79: 档案室 | N79: 0855-6419661 | O79: 18285563557 | P79: 1343668279734 | Q79: 77
A80: 9 | B80: 覃叶 | C80: 220010141010 | D80: 女 | E80: 1970-01-01 | F80: 仡佬族 | G80: 团员 | H80: 马克思主义学院 | I80: 思想政治教育（预升本） | J80: 思想政治教育2022级 | K80: 4 | L80: 贵州省遵义市务川自治县大坪街道九天社区体育路政务服务中心 | M80: 档案室 | N80: 0851-25622306 | O80: 18385291336 | P80: 1343647942534 | Q80: 78
A81: 10 | B81: 王永琴 | C81: 220010141011 | D81: 女 | E81: 1970-01-01 | F81: 彝族 | G81: 团员 | H81: 马克思主义学院 | I81: 思想政治教育（预升本） | J81: 思想政治教育2022级 | K81: 4 | L81: 贵州省毕节市赫章县人才交流服务中心白果会展中心7楼70021室 | M81: 档案室 | N81: 0857-3232718 | O81: 17886316097 | P81: 1343669231834 | Q81: 79
A82: 11 | B82: 韦小慧 | C82: 220010141012 | D82: 女 | E82: 1970-01-01 | F82: 水族 | G82: 群众 | H82: 马克思主义学院 | I82: 思想政治教育（预升本） | J82: 思想政治教育2022级 | K82: 4 | L82: 贵州省黔南州三都水族自治县政务大厅E厅 | M82: 档案室 | N82: 0854-3028568 | O82: 17885263475 | P82: 1343646992234 | Q82: 80
A83: 12 | B83: 杨露 | C83: 220010141013 | D83: 女 | E83: 1970-01-01 | F83: 土家族 | G83: 群众 | H83: 马克思主义学院 | I83: 思想政治教育（预升本） | J83: 思想政治教育2022级 | K83: 4 | L83: 贵州省铜仁市碧江区政府凉湾5号楼108室 | M83: 档案室 | N83: 0856-5236680 | O83: 18722946081 | P83: 1343674161034 | Q83: 81
... A122: 51 | B122: 周晨东 | C122: 220010141054 | D122: 男 | E122: 2004-10-08 | F122: 土家族 | G122: 群众 | H122: 马克思主义学院 | I122: 思想政治教育(师范) | J122: 思想政治教育2022级 | K122: 4 | L122: 贵州省铜仁市德江县城南新区扶阳大道德江县人社大楼 | M122: 档案室 | N122: 0856-8628086 | O122: 18311871729 | P122: 1343657477534 | Q122: 120
A123: 52 | B123: 黎敏 | C123: 220010141055 | D123: 女 | E123: 2003-06-05 | F123: 汉族 | G123: 团员 | H123: 马克思主义学院 | I123: 思想政治教育(师范) | J123: 思想政治教育2022级 | K123: 4 | L123: 青海省西宁市城北区海湖大道延长段38号（青海师范大学城北校区马克思主义学院） | M123: 苏小滢 | N123: 17609712099 | O123: 15117371074 | P123: 1343655541934 | Q123: 121
A124: 53 | B124: 韦雪 | C124: 220010141056 | D124: 女 | E124: 2003-01-27 | F124: 布依族 | G124: 团员 | H124: 马克思主义学院 | I124: 思想政治教育(师范) | J124: 思想政治教育2022级 | K124: 4 | L124: 贵州省安顺市紫云自治县新城区磨南村紫云自治县人力资源和社会保障局 | M124: 档案室 | N124: 0851-35239672 | O124: 19358639709 | P124: 1343655542234 | Q124: 122
A125: 54 | B125: 计丁杰 | C125: 220010141057 | D125: 男 | E125: 2002-09-03 | F125: 汉族 | G125: 团员 | H125: 马克思主义学院 | I125: 思想政治教育(师范) | J125: 思想政治教育2022级 | K125: 4 | L125: 贵州省黔西南布依族苗族自治州安龙县西城区迎宾大道（安龙县人社局四楼） | M125: 档案室 | N125: 0859-5220102 | O125: 16685495459 | P125: 1343650818934 | Q125: 123
A126: 55 | B126: 石珺怡 | C126: 220010141058 | D126: 女 | E126: 2004-05-29 | F126: 汉族 | G126: 团员 | H126: 马克思主义学院 | I126: 思想政治教育(师范) | J126: 思想政治教育2022级 | K126: 4 | L126: 贵州省黔东南州三穗县人社局档案室（三穗县政务服务中心七楼） | M126: 档案室 | N126: 0858-8602803 | O126: 18485467646 | P126: 1343669237034 | Q126: 124
A127: 56 | B127: 杨灵 | C127: 220010141059 | D127: 女 | E127: 2004-01-07 | F127: 侗族 | G127: 团员 | H127: 马克思主义学院 | I127: 思想政治教育(师范) | J127: 思想政治教育2022级 | K127: 4 | L127: 大连市尖山街217号东北财经大学马克思主义学院劝学楼122室 | M127: 王征 | N127: 0411-84710502 | O127: 17784858014 | P127: 1343648899734 | Q127: 125
A128: 57 | B128: 杨云节 | C128: 220010141060 | D128: 女 | E128: 2001-08-07 | F128: 水族 | G128: 团员 | H128: 马克思主义学院 | I128: 思想政治教育(师范) | J128: 思想政治教育2022级 | K128: 4 | L128: 贵州省黔南州三都水族自治县政务大厅E厅 | M128: 档案室 | N128: 0854-3028568 | O128: 15117805121 | P128: 1343653571034 | Q128: 126
A129: 58 | B129: 金兴煌 | C129: 204002LY1008 | D129: 男 | E129: 2000-11-05 | F129: 汉族 | G129: 团员 | H129: 马克思主义学院 | I129: 思想政治教育 | J129: 思想政治教育2022级 | K129: 4 | L129: 贵州省毕节市大方县杜鹃大道北段大方县人力资源和社会保障局4楼 | M129: 档案室 | N129: 0857-5252991 | O129: 1838633764 | P129: 1343651669834 | Q129: 127
A130: 59 | B130: 蔡方雯 | C130: 214002LY2015 | D130: 女 | E130: 2002-08-27 | F130: 汉族 | G130: 团员 | H130: 马克思主义学院 | I130: 思想政治教育 | J130: 思想政治教育2022级 | K130: 4 | L130: 贵州省遵义市仁怀市人才交流服务中心（仁怀市盐津街道办事处酒神路） | M130: 档案室 | N130: 0851-2239365 | O130: 18286237094 | P130: 1343677014834 | Q130: 128
A131: 60 | B131: 喻丹婷 | C131: 220030241052 | D131: 女 | E131: 2005-03-26 | F131: 其他 | G131: 群众 | H131: 马克思主义学院 | I131: 思想政治教育 | J131: 思想政治教育2022级 | K131: 4 | L131: 贵州省铜仁市松桃苗族自治县人力资源服务中心（松桃县经济开发区企业服务中心8楼） | M131: 档案室 | N131: 0856-2832680 | O131: 17311963615 | P131: 1343653572334 | Q131: 129
A132: 61 | B132: 蒋春丽 | C132: 220020341016 | D132: 女 | E132: 2003-02-03 | F132: 汉族 | G132: 群众 | H132: 马克思主义学院 | I132: 思想政治教育 | J132: 思想政治教育2022级 | K132: 4 | L132: 贵州省六盘水市钟山区风凰街道政通路7号 | M132: 档案室 | N132: 0858-6348606 | O132: 18185845933 | P132: 1343654519534 | Q132: 130
A133: 62 | B133: 敖联欢 | C133: 220020341020 | D133: 男 | E133: 2002-01-01 | F133: 侗族 | G133: 团员 | H133: 马克思主义学院 | I133: 思想政治教育 | J133: 思想政治教育2022级 | K133: 4 | L133: 贵州省遵义市汇川区人才交流中心 | M133: 档案室 | N133: 0851-28684021 | O133: 17785446574 | P133: 1343672228934 | Q133: 131
A134: 63 | B134: 吴虎 | C134: 220020342031 | D134: 男 | E134: 2004-03-26 | F134: 汉族 | G134: 群众 | H134: 马克思主义学院 | I134: 思想政治教育 | J134: 思想政治教育2022级 | K134: 4 | L134: 贵州省黔东南州黎平县就业局（黎平县南泉山政务中心） | M134: 档案室 | N134: 0855-3966806 | O134: 18385688022 | P134: 1343668292534 | Q134: 132
A135: 64 | B135: 赵穆言 | C135: 220030341029 | D135: 女 | E135: 2004-03-18 | F135: 汉族 | G135: 群众 | H135: 马克思主义学院 | I135: 思想政治教育 | J135: 思想政治教育2022级 | K135: 4 | L135: 云南省大理市大理古城弘圣路2号 大理大学马克思主义学院 | M135: 档案室 | N135: 0872-2219240 | O135: 18984383426 | P135: 1343649930634 | Q135: 133
... A143: 72 | B143: 刘秀文 | C143: 204001011004 | D143: 男 | E143: 2002-03-31 | F143: 彝族 | G143: 中共预备党员 | H143: 马克思主义学院 | I143: 思想政治教育 | J143: 思想政治教育2020级 | K143: 4 | L143: 河南省新乡市建设东路46号河南师范大学平原楼208办公室 | M143: 梁超 | N143: 0373-3326038 | O143: 18630872823 | P143: 1343664384734 | Q143: 141
A144: 73 | B144: 黎祖琦 | C144: 214002011014 | D144: 男 | F144: 汉族 | G144: 群众 | H144: 马克思主义学院 | I144: 历史学 | J144: 历史学2022级 | K144: 4 | L144: 贵州省铜仁市石阡县人力资源和社会保障局3楼303室（北塔大道御东菁华斜对面） | M144: 档案室 | N144: 0856-7623431 | O144: 19917069879 | P144: 1343678000934 | Q144: 142
A145: 1 | B145: 万浩正 | C145: 242301321001 | D145: 男 | E145: 2001-09-14 | F145: 侗族 | G145: 团员 | H145: 马克思主义学院 | I145: 思想政治教育 | J145: 思想政治教育2024级专升本 | K145: 2 | L145: 贵州省铜仁市万山区产业园2号楼2层 | M145: 档案室 | N145: 0856-3520073 | O145: 18185611870 | P145: 1343657480134 | Q145: 143
A146: 2 | B146: 黄永芹 | C146: 242301321002 | D146: 女 | E146: 2002-12-19 | F146: 汉族 | G146: 团员 | H146: 马克思主义学院 | I146: 思想政治教育 | J146: 思想政治教育2024级专升本 | K146: 2 | L146: 广西梧州市藤县藤州镇藤州大道东1号 | M146: 藤县就业服务中心（藤县人力资源 服务中心)收 | N146: 0774-7272777 | O146: 18077436786 | P146: 1343649931034 | Q146: 144
A147: 3 | B147: 周宝连 | C147: 242301321003 | D147: 女 | E147: 1999-11-21 | F147: 汉族 | G147: 团员 | H147: 马克思主义学院 | I147: 思想政治教育 | J147: 思想政治教育2024级专升本 | K147: 2 | L147: 贵州省毕节市黔西市黔西市行政中心2楼220大厅3号窗口 | M147: 贵州省黔西市人力资源和社会保障局收 | N147: 0857-4231599 | O147: 17397244407 | P147: 1343654529734 | Q147: 145
A148: 4 | B148: 令狐芮 | C148: 242301321004 | D148: 女 | E148: 2002-12-29 | F148: 汉族 | G148: 团员 | H148: 马克思主义学院 | I148: 思想政治教育 | J148: 思想政治教育2024级专升本 | K148: 2 | L148: 贵州省遵义市桐梓县蟠龙大道城投大厦七楼 | M148: 人才交流中心收 | N148: 0851-26627724 | O148: 15085637936 | P148: 1343655546734 | Q148: 146
A149: 5 | B149: 李丽 | C149: 242301321005 | D149: 女 | E149: 2000-09-13 | F149: 汉族 | G149: 团员 | H149: 马克思主义学院 | I149: 思想政治教育 | J149: 思想政治教育2024级专升本 | K149: 2 | L149: 贵州省毕节市赫章县白果会展中心7楼70021室 | M149: 贵州省赫章县人才交流服务中心收 | N149: 0857-3232718 | O149: 19398423062 | P149: 1343652653134 | Q149: 147
A150: 6 | B150: 张明雪 | C150: 242301321006 | D150: 女 | E150: 2002-01-26 | F150: 汉族 | G150: 群众 | H150: 马克思主义学院 | I150: 思想政治教育 | J150: 思想政治教育2024级专升本 | K150: 2 | L150: 贵州省黔南布依族苗族自治州罗甸县龙坪镇档案局2楼人社局档案室 | M150: 人才交流中心收 | N150: 0854-7946133 | O150: 18085048560 | P150: 1343675154634 | Q150: 148
A151: 7 | B151: 王倩 | C151: 242301321007 | D151: 女 | E151: 2001-11-11 | F151: 汉族 | G151: 群众 | H151: 马克思主义学院 | I151: 思想政治教育 | J151: 思想政治教育2024级专升本 | K151: 2 | L151: 贵州省毕节市毕节市七星关区工业大道邓家湾路口七星关区人力资源和社会保障局2楼602办公室 | M151: 贵州省毕节市七星关区人力资源和社会保障局人才交流服务中心 | N151: 0857-8947725 | O151: 19380255413 | P151: 1343674173934 | Q151: 149
A152: 8 | B152: 周启英 | C152: 242301321008 | D152: 女 | E152: 2002-07-11 | F152: 布依族 | G152: 团员 | H152: 马克思主义学院 | I152: 思想政治教育 | J152: 思想政治教育2024级专升本 | K152: 2 | L152: 贵州省黔西南州贞丰县政务服务中心三楼A-318办公室 | M152: 贞丰县人力资源发展中心 | N152: 0859-6617160 | O152: 13195298817 | P152: 1343660429534 | Q152: 150
A153: 9 | B153: 王书艳 | C153: 242301321009 | D153: 女 | E153: 2002-06-25 | F153: 汉族 | G153: 团员 | H153: 马克思主义学院 | I153: 思想政治教育 | J153: 思想政治教育2024级专升本 | K153: 2 | L153: 新疆伊犁州奎屯市北京西路51号人力资源和社会保障局 | M153: 档案室 | N153: 0992-3265273 | O153: 13677528675 | P153: 1343651672434 | Q153: 151
A154: 10 | B154: 李贵郷 | C154: 242301321010 | D154: 女 | E154: 2002-08-18 | F154: 汉族 | G154: 团员 | H154: 马克思主义学院 | I154: 思想政治教育 | J154: 思想政治教育2024级专升本 | K154: 2 | L154: 重庆市巴南区龙洲大道渝南大道215号 | M154: 人才交流中心收 | N154: 023-6623 3345 | O154: 15569153857 | P154: 1343649933734 | Q154: 152
A155: 11 | B155: 王蕊 | C155: 242301321011 | D155: 女 | E155: 2003-01-03 | F155: 布依族 | G155: 团员 | H155: 马克思主义学院 | I155: 思想政治教育 | J155: 思想政治教育2024级专升本 | K155: 2 | L155: 贵州省黔西南州册亨县人力资源发展中心（册亨县纳福大道政务大厅4楼） | M155: 册亨县人力资源发展中心 | N155: 0859-4216122 | O155: 13017052243 | P155: 1343654532334 | Q155: 153
A156: 12 | B156: 谢春燕 | C156: 242301321012 | D156: 女 | E156: 2002-04-02 | F156: 瑶族 | G156: 团员 | H156: 马克思主义学院 | I156: 思想政治教育 | J156: 思想政治教育2024级专升本 | K156: 2 | L156: 贵州省黔南布依族苗族自治州荔波县人力资源和社会保障局（恩铭大道15号六楼七楼人事档案处） | M156: 荔波县人力资源和社会保障局 | N156: 0854-3612025 | O156: 17716625109 | P156: 1343657481534 | Q156: 154
... A178: 3 | B178: 周晓艳 | C178: 220010241004 | D178: 女 | E178: 2004-03-07 | F178: 苗族 | G178: 团员 | H178: 经济管理学院(旅游学院) | I178: 城市管理 | J178: 城市管理2022级 | K178: 4 | L178: 贵州省贵阳市花溪区大学城贵州民族大学研究生院 | M178: 马老师 | N178: 0851-88124402 | O178: 19117763707 | P178: 1343670267834 | Q178: 176
A179: 4 | B179: 廖叙 | C179: 220010241005 | D179: 男 | E179: 2001-07-26 | F179: 汉族 | G179: 群众 | H179: 经济管理学院(旅游学院) | I179: 城市管理 | J179: 城市管理2022级 | K179: 4 | L179: 湖北省荆州市荆州区荆秘路266号长江大学农学院 | M179: 吴建文 | N179: 13393055276 | O179: 15329882217 | P179: 1343660440134 | Q179: 177
A180: 5 | B180: 蒋珩 | C180: 220010241006 | D180: 男 | E180: 1970-01-01 | F180: 侗族 | G180: 群众 | H180: 经济管理学院(旅游学院) | I180: 城市管理（预升本） | J180: 城市管理2022级 | K180: 4 | L180: 贵州省黔东南州镇远县就业创业服务中心 | M180: 就业创业服务中心 | N180: 0855-5719056 | O180: 18385788130 | P180: 1343663436334 | Q180: 178
A181: 6 | B181: 梁凯涛 | C181: 220010241007 | D181: 男 | E181: 1970-01-01 | F181: 侗族 | G181: 团员 | H181: 经济管理学院(旅游学院) | I181: 城市管理（预升本） | J181: 城市管理2022级 | K181: 4 | L181: 贵州省黔东南州从江县丙妹街道北上行政中心1号楼三楼从江县委组织部 | M181: 宋勇芳 | N181: 18386620975 | O181: 13595529073 | P181: 1343659476634 | Q181: 179
A182: 7 | B182: 龙芳 | C182: 220010241008 | D182: 女 | E182: 1970-01-01 | F182: 苗族 | G182: 团员 | H182: 经济管理学院(旅游学院) | I182: 城市管理（预升本） | J182: 城市管理2022级 | K182: 4 | L182: 贵州省铜仁市松桃苗族自治县松桃县经济开发区企业服务中心8楼 | M182: 松桃苗族自治县人力资源服务中心 | N182: 0856-2832680 | O182: 18722907483 | P182: 1343658517734 | Q182: 180
A183: 8 | B183: 龙飞扬 | C183: 220010241009 | D183: 男 | E183: 1970-01-01 | F183: 苗族 | G183: 群众 | H183: 经济管理学院(旅游学院) | I183: 城市管理（预升本） | J183: 城市管理2022级 | K183: 4 | L183: 贵州省黔东南州施秉县县府路25号施秉县人才交流服务中心 | M183: 施秉县人才交流服务中心 | N183: 0855-4229837 | O183: 13348798842 | P183: 1343670269534 | Q183: 181
A184: 9 | B184: 龙仕婷 | C184: 220010241010 | D184: 女 | E184: 1970-01-01 | F184: 侗族 | G184: 团员 | H184: 经济管理学院(旅游学院) | I184: 城市管理（预升本） | J184: 城市管理2022级 | K184: 4 | L184: 贵州省铜仁市玉屏侗族自治县玉屏侗族自治县政府行政中心后3楼353室 | M184: 玉屏侗族自治县人才交流中心 | N184: 0856-3229398 | O184: 15286440941 | P184: 1343659478334 | Q184: 182
A185: 10 | B185: 潘四平 | C185: 220010241011 | D185: 男 | E185: 1970-01-01 | F185: 水族 | G185: 团员 | H185: 经济管理学院(旅游学院) | I185: 城市管理（预升本） | J185: 城市管理2022级 | K185: 4 | L185: 贵州省黔东南州榕江县人才交流服务中心 | M185: 人才交流服务中心 | N185: 0855-3921422 | O185: 18375074104 | P185: 1343647971234 | Q185: 183
A186: 11 | B186: 彭开旭 | C186: 220010241012 | D186: 男 | E186: 1970-01-01 | F186: 黎族 | G186: 群众 | H186: 经济管理学院(旅游学院) | I186: 城市管理（预升本） | J186: 城市管理2022级 | K186: 4 | L186: 贵州省安顺市关岭布依族苗族自治县就业局（关岭自治县顶云街道顶云新区顶包公路原煤检站往顶云方向下行100米处） | M186: 就业局 | N186: 0851—37220245 | O186: 15121318325 | P186: 1343678015934 | Q186: 184
A187: 12 | B187: 王娅 | C187: 220010241013 | D187: 女 | E187: 1970-01-01 | F187: 彝族 | G187: 团员 | H187: 经济管理学院(旅游学院) | I187: 城市管理（预升本） | J187: 城市管理2022级 | K187: 4 | L187: 贵州省六盘水市六枝特区就业局（六枝特区九龙街道贵烟路桃花湖旁） | M187: 就业局 | N187: 0858-5322113 | O187: 18185869493 | P187: 1343665315534 | Q187: 185
A188: 13 | B188: 韦慧想 | C188: 220010241014 | D188: 女 | E188: 1970-01-01 | F188: 水族 | G188: 团员 | H188: 经济管理学院(旅游学院) | I188: 城市管理（预升本） | J188: 城市管理2022级 | K188: 4 | L188: 贵州省黔南布依族苗族自治州三都水族自治县人才交流服务中心 | M188: 人才交流服务中心 | N188: 0854-3028568 | O188: 16684743590 | P188: 1343655565734 | Q188: 186
...
